BEGIN:VCALENDAR
VERSION:2.0
PRODID:-//Plug-in Storage Systems Inc - ECPv6.0.11//NONSGML v1.0//EN
CALSCALE:GREGORIAN
METHOD:PUBLISH
X-WR-CALNAME:Plug-in Storage Systems Inc
X-ORIGINAL-URL:https://pluginstorage.com
X-WR-CALDESC:Events for Plug-in Storage Systems Inc
REFRESH-INTERVAL;VALUE=DURATION:PT1H
X-Robots-Tag:noindex
X-PUBLISHED-TTL:PT1H
BEGIN:VTIMEZONE
TZID:UTC
BEGIN:STANDARD
TZOFFSETFROM:+0000
TZOFFSETTO:+0000
TZNAME:UTC
DTSTART:20240101T000000
END:STANDARD
END:VTIMEZONE
BEGIN:VEVENT
DTSTART;TZID=UTC:20240227T093000
DTEND;TZID=UTC:20240227T133000
DTSTAMP:20240222T115124
CREATED:20230224T161845Z
LAST-MODIFIED:20231208T195827Z
UID:1353-1709026200-1709040600@pluginstorage.com
SUMMARY:Keesler AFB Technology Expo-Bay Breeze Events Center
DESCRIPTION:Keesler AFB Technology Expo Biloxi\, MS. This expo has been serving Keesler personnel for over 26 years and is aggressively promoted to all organizations at Keesler AFB that evaluate and procure information technology and services. The 2022 event attracted over 300 personnel…The annual expo is an opportunity to influence and have access to attendees from Keesler and the Naval personnel from Gulfport as well as Stennis Space Flight Center. \nThis exposition is highly regarded as THE way to make contact with and impact so many defense contacts from these locations in one place at one time from this important southeast region and it is the ONLY Technology Expo for Keesler each year. As one of the largest training bases for the Air Force. \n 
URL:https://pluginstorage.com/event/keesler-afb-technology-expo-bay-breeze-events-center/
LOCATION:Bay Breeze Event Center\, 500 Ploesti Dr\, Biloxi\, MS\, 39534\, United States
END:VEVENT
END:VCALENDAR